Workbook

Sheet Dashboard
A1: Data Dashboard
A5: Group | B5: Week 3 | C5: Week 4 | D5: Week 5 | E5: Week 6 | F5: Week 7 | G5: Week 8 | H5: Week 9 | I5: Week 10 | J5: Week 11 | K5: Week 12 | L5: Week 13 | M5: Week 14 | N5: Week 15 | O5: Week 16 | P5: Totals
A6: 1 | B6: 0 | C6: 0 | D6: 0 | E6: 0 | F6: 0 | G6: 0 | H6: 0 | I6: ='Group 1'!L19 -> 0 | J6: 0 | K6: 0 | L6: 0 | M6: 0 | N6: 0 | O6: 0 | P6: =SUM(Dashboard!$B6:$O6) -> 0
A7: 2 | B7: ='Group 2'!E19 -> 0 | C7: ='Group 2'!F19 -> 0 | D7: ='Group 2'!G19 -> 0 | E7: ='Group 2'!H19 -> 0 | F7: ='Group 2'!I19 -> 0 | G7: ='Group 2'!J19 -> 0 | H7: ='Group 2'!K19 -> 0 | I7: ='Group 2'!L19 -> 0 | ... O7: ='Group 2'!R19 -> 0 | P7: =SUM(Dashboard!$B7:$O7) -> 0
A8: 3 | B8: ='Group 3'!E19 -> 0 | C8: ='Group 3'!F19 -> 0 | D8: ='Group 3'!G19 -> 0 | E8: ='Group 3'!H19 -> 0 | F8: ='Group 3'!I19 -> 0 | G8: ='Group 3'!J19 -> 0 | H8: ='Group 3'!K19 -> 0 | I8: ='Group 3'!L19 -> 0 | ... O8: ='Group 3'!R19 -> 0 | P8: =SUM(Dashboard!$B8:$O8) -> 0
A9: 4 | B9: ='Group 4'!E19 -> 0 | C9: ='Group 4'!F19 -> 0 | D9: ='Group 4'!G19 -> 0 | E9: ='Group 4'!H19 -> 0 | F9: ='Group 4'!I19 -> 0 | G9: ='Group 4'!J19 -> 0 | H9: ='Group 4'!K19 -> 0 | I9: ='Group 4'!L19 -> 0 | ... O9: ='Group 4'!R19 -> 0 | P9: =SUM(Dashboard!$B9:$O9) -> 0
A10: 5 | B10: ='Group 5'!E19 -> 0 | C10: ='Group 5'!F19 -> 0 | D10: ='Group 5'!G19 -> 0 | E10: ='Group 5'!H19 -> 0 | F10: ='Group 5'!I19 -> 0 | G10: ='Group 5'!J19 -> 0 | H10: ='Group 5'!K19 -> 0 | I10: ='Group 5'!L19 -> 0 | ... O10: ='Group 5'!R19 -> 0 | P10: =SUM(Dashboard!$B10:$O10) -> 0
A11: 6 | B11: ='Group 6'!E19 -> 0 | C11: ='Group 6'!F19 -> 0 | D11: ='Group 6'!G19 -> 0 | E11: ='Group 6'!H19 -> 0 | F11: ='Group 6'!I19 -> 0 | G11: ='Group 6'!J19 -> 0 | H11: ='Group 6'!K19 -> 0 | I11: ='Group 6'!L19 -> 0 | ... O11: ='Group 6'!R19 -> 0 | P11: =SUM(Dashboard!$B11:$O11) -> 0
A12: Total | B12: =SUBTOTAL(109,Dashboard!$B$6:$B$11) -> 0 | C12: =SUBTOTAL(109,Dashboard!$C$6:$C$11) -> 0 | D12: =SUBTOTAL(109,Dashboard!$D$6:$D$11) -> 0 | E12: =SUBTOTAL(109,Dashboard!$E$6:$E$11) -> 0 | F12: =SUBTOTAL(109,Dashboard!$F$6:$F$11) -> 0 | G12: =SUBTOTAL(109,Dashboard!$G$6:$G$11) -> 0 | H12: =SUBTOTAL(109,Dashboard!$H$6:$H$11) -> 0 | I12: =SUBTOTAL(109,Dashboard!$I$6:$I$11) -> 0 | J12: =SUBTOTAL(109,Dashboard!$J$6:$J$11) -> 0 | K12: =SUBTOTAL(109,Dashboard!$K$6:$K$11) -> 0 | L12: =SUBTOTAL(109,Dashboard!$L$6:$L$11) -> 0 | M12: =SUBTOTAL(109,Dashboard!$M$6:$M$11) -> 0 | N12: =SUBTOTAL(109,Dashboard!$N$6:$N$11) -> 0 | O12: =SUBTOTAL(109,Dashboard!$O$6:$O$11) -> 0 | P12: =SUBTOTAL(109,Dashboard!$P$6:$P$11) -> 0

Sheet Group 1
A1: Group 1 (Example)
A4: Student Information: | E4: Week 3 | F4: Week 4 | G4: Week 5 | H4: Week 6 | I4: Week 7 | J4: Week 8 | K4: Week 9 | L4: Week 10 | M4: Week 11 | N4: Week 12 | O4: Week 13 | P4: Week 14 | Q4: Week 15 | R4: Week 16
A5: First Name | B5: Last Name | C5: Prounouns | D5: Email
A6: Stu1 | B6: Stu1 | C6: they,them | D6: studentemail@wisc.edu | E6: 1 | F6: 1 | G6: 1 | H6: 1 | I6: 1 | J6: 1 | K6: 1 | L6: n/a | M6: 0 | N6: 1 | O6: 1 | P6: 1 | Q6: e | R6: e
A7: Stu2 | B7: Stu2 | C7: they,them | D7: studentemail@wisc.edu | E7: 1 | F7: 1 | G7: 1 | H7: 1 | I7: 1 | J7: 1 | K7: 1 | L7: n/a | M7: 1 | N7: e | O7: 1 | P7: 1 | Q7: 1 | R7: 1
A8: Stu3 | B8: Stu3 | C8: they,them | D8: studentemail@wisc.edu | E8: 1 | F8: e | G8: 1 | H8: 1 | I8: 1 | J8: e | K8: e | L8: n/a | M8: e | N8: 1 | O8: 0 | P8: 0 | Q8: 1 | R8: 0
A9: Stu4 | B9: Stu4 | C9: they,them | D9: studentemail@wisc.edu | E9: 1 | F9: 1 | G9: 1 | H9: 1 | I9: 1 | J9: 1 | K9: 1 | L9: n/a | M9: 1 | N9: 0 | O9: 1 | P9: 1 | Q9: 1 | R9: 1
A10: Stu5 | B10: Stu5 | C10: they,them | D10: studentemail@wisc.edu | E10: 1 | F10: 1 | G10: 1 | H10: 1 | I10: 1 | J10: 1 | K10: e | L10: n/a | M10: 1 | N10: 1 | O10: 1 | P10: e | Q10: 1 | R10: 0
A11: Stu6 | B11: Stu6 | C11: they,them | D11: studentemail@wisc.edu | E11: 0 | F11: 1 | G11: e | H11: 1 | I11: e | J11: 1 | K11: 1 | L11: n/a | M11: 1 | N11: e | O11: 0 | P11: e | Q11: 1 | R11: 1
A12: Stu7 | B12: Stu7 | C12: they,them | D12: studentemail@wisc.edu | E12: 1 | F12: 1 | G12: 1 | H12: 1 | I12: 1 | J12: 1 | K12: 1 | L12: n/a | M12: 1 | N12: 1 | O12: e | P12: 1 | Q12: 1 | R12: 1
A13: Stu8 | B13: Stu8 | C13: they,them | D13: studentemail@wisc.edu | E13: 1 | F13: 1 | G13: 1 | H13: 1 | I13: 1 | J13: e | K13: 1 | L13: n/a | M13: 1 | N13: 1 | O13: 1 | P13: 1 | Q13: 1 | R13: 1
A16: Removed | E16: REMOVED | F16: REMOVED | G16: REMOVED | H16: REMOVED | I16: REMOVED | J16: REMOVED | K16: REMOVED | L16: REMOVED | M16: REMOVED | N16: REMOVED | O16: REMOVED | P16: REMOVED | Q16: REMOVED | R16: REMOVED
A17: Stu9 | B17: Stu9 | E17: 1 | F17: 0 | G17: 0 | H17: removed | I17: removed | J17: removed | K17: removed | L17: removed | M17: removed | N17: removed | O17: removed | P17: removed | Q17: removed | R17: removed
A18: Stu10 | B18: Stu10 | E18: 1 | F18: 0 | G18: 0 | H18: removed | I18: removed | J18: removed | K18: removed | L18: removed | M18: removed | N18: removed | O18: removed | P18: removed | Q18: removed | R18: removed
A19: Weekly Total: | E19: =SUM(E6:E18) -> 9 | F19: =SUM(F6:F18) -> 7 | G19: =SUM(G6:G18) -> 7 | H19: =SUM(H6:H18) -> 8 | I19: =SUM(I6:I18) -> 7 | J19: =SUM(J6:J18) -> 6 | K19: =SUM(K6:K18) -> 6 | L19: =SUM(L6:L18) -> 0 | ... R19: =SUM(R6:R18) -> 5
A21: Legend:
A22: 1 | B22: Present
A23: 0 | B23: Absent
A24: e | B24: Excused
A25: n/a | B25: No Group Held

Sheet Group 2
A1: Group 2
A4: Student Information: | E4: Week 3 | F4: Week 4 | G4: Week 5 | H4: Week 6 | I4: Week 7 | J4: Week 8 | K4: Week 9 | L4: Week 10 | M4: Week 11 | N4: Week 12 | O4: Week 13 | P4: Week 14 | Q4: Week 15 | R4: Week 16
A5: First Name | B5: Last Name | C5: Pronouns | D5: Email
A16: REMOVED | E16: REMOVED | F16: REMOVED | G16: REMOVED | H16: REMOVED | I16: REMOVED | J16: REMOVED | K16: REMOVED | L16: REMOVED | M16: REMOVED | N16: REMOVED | O16: REMOVED | P16: REMOVED | Q16: REMOVED | R16: REMOVED
A19: Weekly Total: | E19: =SUM(E6:E18) -> 0 | F19: =SUM(F6:F18) -> 0 | G19: =SUM(G6:G18) -> 0 | H19: =SUM(H6:H18) -> 0 | I19: =SUM(I6:I18) -> 0 | J19: =SUM(J6:J18) -> 0 | K19: =SUM(K6:K18) -> 0 | L19: =SUM(L6:L18) -> 0 | ... R19: =SUM(R6:R18) -> 0
A21: Legend:
A22: 1 | B22: Present
A23: 0 | B23: Absent
A24: e | B24: Excused
A25: n/a | B25: No Group Held

Sheet Group 3
A1: Group 3
A4: Student Information: | E4: Week 3 | F4: Week 4 | G4: Week 5 | H4: Week 6 | I4: Week 7 | J4: Week 8 | K4: Week 9 | L4: Week 10 | M4: Week 11 | N4: Week 12 | O4: Week 13 | P4: Week 14 | Q4: Week 15 | R4: Week 16
A5: First Name | B5: Last Name | C5: Pronouns | D5: Email
A14: Removed | E14: REMOVED | F14: REMOVED | G14: REMOVED | H14: REMOVED | I14: REMOVED | J14: REMOVED | K14: REMOVED | L14: REMOVED | M14: REMOVED | N14: REMOVED | O14: REMOVED | P14: REMOVED | Q14: REMOVED | R14: REMOVED
A19: Weekly Total: | E19: =SUM(E6:E17) -> 0 | F19: =SUM(F6:F18) -> 0 | G19: =SUM(G6:G18) -> 0 | H19: =SUM(H6:H18) -> 0 | I19: =SUM(I6:I18) -> 0 | J19: =SUM(J6:J18) -> 0 | K19: =SUM(K6:K18) -> 0 | L19: =SUM(L6:L18) -> 0 | M19: =SUM(M6:M18) -> 0 | ... R19: =SUM(R6:R18) -> 0
A21: Legend:
A22: 1 | B22: Present
A23: 0 | B23: Absent
A24: e | B24: Excused
A25: n/a | B25: No Group Held

Sheet Group 4
A1: Group 4
A4: Student Information: | E4: Week 3 | F4: Week 4 | G4: Week 5 | H4: Week 6 | I4: Week 7 | J4: Week 8 | K4: Week 9 | L4: Week 10 | M4: Week 11 | N4: Week 12 | O4: Week 13 | P4: Week 14 | Q4: Week 15 | R4: Week 16
A5: First Name | B5: Last Name | C5: Pronouns | D5: Email
A13: Removed | E13: REMOVED | F13: REMOVED | G13: REMOVED | H13: REMOVED | I13: REMOVED | J13: REMOVED | K13: REMOVED | L13: REMOVED | M13: REMOVED | N13: REMOVED | O13: REMOVED | P13: REMOVED | Q13: REMOVED | R13: REMOVED
A19: Weekly Total: | E19: =SUM(E6:E16) -> 0 | F19: =SUM(F6:F18) -> 0 | G19: =SUM(G6:G18) -> 0 | H19: =SUM(H6:H18) -> 0 | I19: =SUM(I6:I18) -> 0 | J19: =SUM(J6:J18) -> 0 | K19: =SUM(K6:K18) -> 0 | L19: =SUM(L6:L18) -> 0 | M19: =SUM(M6:M18) -> 0 | ... R19: =SUM(R6:R18) -> 0
A21: Legend:
A22: 1 | B22: Present
A23: 0 | B23: Absent
A24: e | B24: Excused
A25: n/a | B25: No Group Held

Sheet Group 5
A1: Group 5
A4: Student Information: | E4: Week 3 | F4: Week 4 | G4: Week 5 | H4: Week 6 | I4: Week 7 | J4: Week 8 | K4: Week 9 | L4: Week 10 | M4: Week 11 | N4: Week 12 | O4: Week 13 | P4: Week 14 | Q4: Week 15 | R4: Week 16
A5: First Name | B5: Last Name | C5: Pronouns | D5: Email
A12: Removed | E12: REMOVED | F12: REMOVED | G12: REMOVED | H12: REMOVED | I12: REMOVED | J12: REMOVED | K12: REMOVED | L12: REMOVED | M12: REMOVED | N12: REMOVED | O12: REMOVED | P12: REMOVED | Q12: REMOVED | R12: REMOVED
A19: Weekly Total: | E19: =SUM(E6:E13) -> 0 | F19: =SUM(F6:F18) -> 0 | G19: =SUM(G6:G18) -> 0 | H19: =SUM(H6:H18) -> 0 | I19: =SUM(I6:I18) -> 0 | J19: =SUM(J6:J18) -> 0 | K19: =SUM(K6:K18) -> 0 | L19: =SUM(L6:L18) -> 0 | M19: =SUM(M6:M18) -> 0 | ... R19: =SUM(R6:R18) -> 0
A21: Legend:
A22: 1 | B22: Present
A23: 0 | B23: Absent
A24: e | B24: Excused
A25: n/a | B25: No Group Held

Sheet Group 6
A1: Group 6
A4: Student Information: | E4: Week 3 | F4: Week 4 | G4: Week 5 | H4: Week 6 | I4: Week 7 | J4: Week 8 | K4: Week 9 | L4: Week 10 | M4: Week 11 | N4: Week 12 | O4: Week 13 | P4: Week 14 | Q4: Week 15 | R4: Week 16
A5: First Name | B5: Last Name | C5: Pronouns | D5: Email
A13: Removed | E13: REMOVED | F13: REMOVED | G13: REMOVED | H13: REMOVED | I13: REMOVED | J13: REMOVED | K13: REMOVED | L13: REMOVED | M13: REMOVED | N13: REMOVED | O13: REMOVED | P13: REMOVED | Q13: REMOVED | R13: REMOVED
A19: Weekly Total: | E19: =SUM(E6:E18) -> 0 | F19: =SUM(F6:F18) -> 0 | G19: =SUM(G6:G18) -> 0 | H19: =SUM(H6:H18) -> 0 | I19: =SUM(I6:I18) -> 0 | J19: =SUM(J6:J18) -> 0 | K19: =SUM(K6:K18) -> 0 | L19: =SUM(L6:L18) -> 0 | ... R19: =SUM(R6:R18) -> 0
A21: Legend:
A22: 1 | B22: Present
A23: 0 | B23: Absent
A24: e | B24: Excused
A25: n/a | B25: No Group Held
